BEGIN:VCALENDAR
VERSION:2.0
PRODID:-//Castlereagh School - ECPv6.15.14//NONSGML v1.0//EN
CALSCALE:GREGORIAN
METHOD:PUBLISH
X-WR-CALNAME:Castlereagh School
X-ORIGINAL-URL:https://castlereaghschool.wa.edu.au
X-WR-CALDESC:Events for Castlereagh School
REFRESH-INTERVAL;VALUE=DURATION:PT1H
X-Robots-Tag:noindex
X-PUBLISHED-TTL:PT1H
BEGIN:VTIMEZONE
TZID:Australia/Perth
BEGIN:STANDARD
TZOFFSETFROM:+0800
TZOFFSETTO:+0800
TZNAME:AWST
DTSTART:20240101T000000
END:STANDARD
END:VTIMEZONE
BEGIN:VEVENT
DTSTART;TZID=Australia/Perth:20250804T090000
DTEND;TZID=Australia/Perth:20250804T103000
DTSTAMP:20260415T182800
CREATED:20250630T035942Z
LAST-MODIFIED:20250630T035942Z
UID:1822-1754298000-1754303400@castlereaghschool.wa.edu.au
SUMMARY:Tea in Garden Cafe
DESCRIPTION:Tea with Chaplain Trudy in Garden Cafe
URL:https://castlereaghschool.wa.edu.au/calendar/tea-in-garden-cafe-6/
CATEGORIES:School Events
END:VEVENT
BEGIN:VEVENT
DTSTART;TZID=Australia/Perth:20250811T090000
DTEND;TZID=Australia/Perth:20250811T223000
DTSTAMP:20260415T182800
CREATED:20250630T044154Z
LAST-MODIFIED:20250630T044154Z
UID:1825-1754902800-1754951400@castlereaghschool.wa.edu.au
SUMMARY:Tea in Garden Cafe
DESCRIPTION:Tea with Chaplain Trudy in Garden Cafe
URL:https://castlereaghschool.wa.edu.au/calendar/tea-in-garden-cafe-7/
CATEGORIES:School Events
END:VEVENT
BEGIN:VEVENT
DTSTART;TZID=Australia/Perth:20250818T090000
DTEND;TZID=Australia/Perth:20250818T103000
DTSTAMP:20260415T182800
CREATED:20250630T053736Z
LAST-MODIFIED:20250630T054501Z
UID:1827-1755507600-1755513000@castlereaghschool.wa.edu.au
SUMMARY:Tea in Garden Cafe
DESCRIPTION:Tea with Chaplain Trudy in Garden Cafe
URL:https://castlereaghschool.wa.edu.au/calendar/tea-in-garden-cafe-8/
CATEGORIES:School Events
END:VEVENT
BEGIN:VEVENT
DTSTART;TZID=Australia/Perth:20250825T090000
DTEND;TZID=Australia/Perth:20250825T103000
DTSTAMP:20260415T182800
CREATED:20250630T054738Z
LAST-MODIFIED:20250630T054738Z
UID:1829-1756112400-1756117800@castlereaghschool.wa.edu.au
SUMMARY:Tea in Garden Cafe
DESCRIPTION:Tea with Chaplain Trudy in Garden Cafe
URL:https://castlereaghschool.wa.edu.au/calendar/tea-in-garden-cafe-9/
CATEGORIES:School Events
END:VEVENT
END:VCALENDAR