BEGIN:VCALENDAR
VERSION:2.0
PRODID:-//Castlereagh School - ECPv6.15.14//NONSGML v1.0//EN
CALSCALE:GREGORIAN
METHOD:PUBLISH
X-WR-CALNAME:Castlereagh School
X-ORIGINAL-URL:https://castlereaghschool.wa.edu.au
X-WR-CALDESC:Events for Castlereagh School
REFRESH-INTERVAL;VALUE=DURATION:PT1H
X-Robots-Tag:noindex
X-PUBLISHED-TTL:PT1H
BEGIN:VTIMEZONE
TZID:Australia/Perth
BEGIN:STANDARD
TZOFFSETFROM:+0800
TZOFFSETTO:+0800
TZNAME:AWST
DTSTART:20240101T000000
END:STANDARD
END:VTIMEZONE
BEGIN:VEVENT
DTSTART;VALUE=DATE:20250602
DTEND;VALUE=DATE:20250603
DTSTAMP:20260420T081043
CREATED:20241209T063723Z
LAST-MODIFIED:20241209T063723Z
UID:1592-1748822400-1748908799@castlereaghschool.wa.edu.au
SUMMARY:WA Day
DESCRIPTION:
URL:https://castlereaghschool.wa.edu.au/calendar/wa-day/
CATEGORIES:Public Holidays
END:VEVENT
BEGIN:VEVENT
DTSTART;VALUE=DATE:20250603
DTEND;VALUE=DATE:20250604
DTSTAMP:20260420T081043
CREATED:20250506T050716Z
LAST-MODIFIED:20250506T050716Z
UID:1754-1748908800-1748995199@castlereaghschool.wa.edu.au
SUMMARY:Special Olympics Years 9-12
DESCRIPTION:
URL:https://castlereaghschool.wa.edu.au/calendar/special-olympics-years-9-12-3/
CATEGORIES:School Events
END:VEVENT
BEGIN:VEVENT
DTSTART;VALUE=DATE:20250605
DTEND;VALUE=DATE:20250606
DTSTAMP:20260420T081043
CREATED:20250506T050848Z
LAST-MODIFIED:20250506T050848Z
UID:1756-1749081600-1749167999@castlereaghschool.wa.edu.au
SUMMARY:WA Day Incursion
DESCRIPTION:
URL:https://castlereaghschool.wa.edu.au/calendar/wa-day-incursion/
CATEGORIES:School Events
END:VEVENT
BEGIN:VEVENT
DTSTART;VALUE=DATE:20250605
DTEND;VALUE=DATE:20250606
DTSTAMP:20260420T081043
CREATED:20250506T051059Z
LAST-MODIFIED:20250506T051059Z
UID:1758-1749081600-1749167999@castlereaghschool.wa.edu.au
SUMMARY:Sporting Schools Gecko Golf Year K-8
DESCRIPTION:
URL:https://castlereaghschool.wa.edu.au/calendar/sporting-schools-gecko-golf-year-k-8/
CATEGORIES:School Events
END:VEVENT
BEGIN:VEVENT
DTSTART;TZID=Australia/Perth:20250606T133000
DTEND;TZID=Australia/Perth:20250606T143000
DTSTAMP:20260420T081043
CREATED:20250506T051306Z
LAST-MODIFIED:20250506T051306Z
UID:1760-1749216600-1749220200@castlereaghschool.wa.edu.au
SUMMARY:Craft and a Cuppa
DESCRIPTION:Craft and a cuppa with School Chaplain Trudy in Garden Cafe
URL:https://castlereaghschool.wa.edu.au/calendar/craft-and-a-cuppa-4/
CATEGORIES:School Events
END:VEVENT
BEGIN:VEVENT
DTSTART;VALUE=DATE:20250610
DTEND;VALUE=DATE:20250611
DTSTAMP:20260420T081043
CREATED:20250506T051414Z
LAST-MODIFIED:20250506T051414Z
UID:1762-1749513600-1749599999@castlereaghschool.wa.edu.au
SUMMARY:Special Olympics Years 9-12
DESCRIPTION:
URL:https://castlereaghschool.wa.edu.au/calendar/special-olympics-years-9-12-4/
CATEGORIES:School Events
END:VEVENT
BEGIN:VEVENT
DTSTART;TZID=Australia/Perth:20250612T090000
DTEND;TZID=Australia/Perth:20250612T100000
DTSTAMP:20260420T081043
CREATED:20250506T060829Z
LAST-MODIFIED:20250506T060851Z
UID:1784-1749718800-1749722400@castlereaghschool.wa.edu.au
SUMMARY:Community Coffee Catch Up
DESCRIPTION:Community coffee catch up with Chaplain Trudy in Garden Cafe
URL:https://castlereaghschool.wa.edu.au/calendar/community-coffee-catch-up-5/
CATEGORIES:School Events
END:VEVENT
BEGIN:VEVENT
DTSTART;TZID=Australia/Perth:20250613T133000
DTEND;TZID=Australia/Perth:20250613T143000
DTSTAMP:20260420T081043
CREATED:20250506T051607Z
LAST-MODIFIED:20250506T061014Z
UID:1764-1749821400-1749825000@castlereaghschool.wa.edu.au
SUMMARY:Craft and a Cuppa
DESCRIPTION:Craft and a cuppa with Chaplain Trudy in Garden Cafe
URL:https://castlereaghschool.wa.edu.au/calendar/community-coffee-catch-up-3/
CATEGORIES:School Events
END:VEVENT
BEGIN:VEVENT
DTSTART;VALUE=DATE:20250617
DTEND;VALUE=DATE:20250618
DTSTAMP:20260420T081043
CREATED:20250506T051704Z
LAST-MODIFIED:20250506T051704Z
UID:1766-1750118400-1750204799@castlereaghschool.wa.edu.au
SUMMARY:Special Olympics Years 9-12
DESCRIPTION:
URL:https://castlereaghschool.wa.edu.au/calendar/special-olympics-years-9-12-5/
CATEGORIES:School Events
END:VEVENT
BEGIN:VEVENT
DTSTART;TZID=Australia/Perth:20250619T091000
DTEND;TZID=Australia/Perth:20250619T093000
DTSTAMP:20260420T081043
CREATED:20250506T051810Z
LAST-MODIFIED:20250506T061105Z
UID:1768-1750324200-1750325400@castlereaghschool.wa.edu.au
SUMMARY:Assembly LA13
DESCRIPTION:
URL:https://castlereaghschool.wa.edu.au/calendar/assembly-la13/
CATEGORIES:School Assembly
END:VEVENT
BEGIN:VEVENT
DTSTART;TZID=Australia/Perth:20250619T093000
DTEND;TZID=Australia/Perth:20250619T103000
DTSTAMP:20260420T081043
CREATED:20250506T052121Z
LAST-MODIFIED:20250506T061141Z
UID:1770-1750325400-1750329000@castlereaghschool.wa.edu.au
SUMMARY:Tea in Garden Cafe
DESCRIPTION:Tea in Garden Cafe with Chaplain Trudy
URL:https://castlereaghschool.wa.edu.au/calendar/tea-in-garden-cafe-2/
CATEGORIES:School Events
END:VEVENT
BEGIN:VEVENT
DTSTART;TZID=Australia/Perth:20250620T133000
DTEND;TZID=Australia/Perth:20250620T143000
DTSTAMP:20260420T081043
CREATED:20250506T052236Z
LAST-MODIFIED:20250506T052236Z
UID:1772-1750426200-1750429800@castlereaghschool.wa.edu.au
SUMMARY:Craft and a Cuppa
DESCRIPTION:Craft and a cuppa with Chaplain Trudy in Garden Cafe
URL:https://castlereaghschool.wa.edu.au/calendar/craft-and-a-cuppa-5/
CATEGORIES:School Events
END:VEVENT
BEGIN:VEVENT
DTSTART;VALUE=DATE:20250624
DTEND;VALUE=DATE:20250625
DTSTAMP:20260420T081043
CREATED:20250506T052357Z
LAST-MODIFIED:20250506T052357Z
UID:1774-1750723200-1750809599@castlereaghschool.wa.edu.au
SUMMARY:Special Olympics Years 9-12
DESCRIPTION:
URL:https://castlereaghschool.wa.edu.au/calendar/special-olympics-years-9-12-6/
CATEGORIES:School Events
END:VEVENT
BEGIN:VEVENT
DTSTART;TZID=Australia/Perth:20250626T090000
DTEND;TZID=Australia/Perth:20250626T220000
DTSTAMP:20260420T081043
CREATED:20250506T052937Z
LAST-MODIFIED:20250506T061257Z
UID:1776-1750928400-1750975200@castlereaghschool.wa.edu.au
SUMMARY:Community Coffee Catch Up
DESCRIPTION:Community coffee catch up with Chaplain Trudy in Garden Cafe
URL:https://castlereaghschool.wa.edu.au/calendar/community-coffee-catch-up-4/
CATEGORIES:School Events
END:VEVENT
BEGIN:VEVENT
DTSTART;TZID=Australia/Perth:20250627T133000
DTEND;TZID=Australia/Perth:20250627T143000
DTSTAMP:20260420T081043
CREATED:20250506T061510Z
LAST-MODIFIED:20250506T061510Z
UID:1787-1751031000-1751034600@castlereaghschool.wa.edu.au
SUMMARY:Craft and a Cuppa
DESCRIPTION:Craft and a cuppa with Chaplain Trudy in Garden Cafe
URL:https://castlereaghschool.wa.edu.au/calendar/craft-and-a-cuppa-7/
CATEGORIES:School Events
END:VEVENT
END:VCALENDAR