BEGIN:VCALENDAR
VERSION:2.0
PRODID:-//Castlereagh School - ECPv6.15.14//NONSGML v1.0//EN
CALSCALE:GREGORIAN
METHOD:PUBLISH
X-ORIGINAL-URL:https://castlereaghschool.wa.edu.au
X-WR-CALDESC:Events for Castlereagh School
REFRESH-INTERVAL;VALUE=DURATION:PT1H
X-Robots-Tag:noindex
X-PUBLISHED-TTL:PT1H
BEGIN:VTIMEZONE
TZID:Australia/Perth
BEGIN:STANDARD
TZOFFSETFROM:+0800
TZOFFSETTO:+0800
TZNAME:AWST
DTSTART:20230101T000000
END:STANDARD
END:VTIMEZONE
BEGIN:VEVENT
DTSTART;TZID=Australia/Perth:20241107T083000
DTEND;TZID=Australia/Perth:20241107T093000
DTSTAMP:20260421T011512
CREATED:20241009T011944Z
LAST-MODIFIED:20241009T011944Z
UID:1449-1730968200-1730971800@castlereaghschool.wa.edu.au
SUMMARY:Community Coffee Catch Up in Garden Cafe with Trudy James
DESCRIPTION:
URL:https://castlereaghschool.wa.edu.au/calendar/community-coffee-catch-up-in-garden-cafe-with-trudy-james/
CATEGORIES:School Events
END:VEVENT
BEGIN:VEVENT
DTSTART;TZID=Australia/Perth:20241108T133000
DTEND;TZID=Australia/Perth:20241108T144500
DTSTAMP:20260421T011512
CREATED:20241009T012054Z
LAST-MODIFIED:20241009T012054Z
UID:1451-1731072600-1731077100@castlereaghschool.wa.edu.au
SUMMARY:Craft and Cuppa in Garden Cafe with Trudy James
DESCRIPTION:
URL:https://castlereaghschool.wa.edu.au/calendar/craft-and-cuppa-in-garden-cafe-with-trudy-james-3/
CATEGORIES:School Events
END:VEVENT
BEGIN:VEVENT
DTSTART;TZID=Australia/Perth:20241114T091000
DTEND;TZID=Australia/Perth:20241114T103000
DTSTAMP:20260421T011512
CREATED:20241009T012301Z
LAST-MODIFIED:20241009T012301Z
UID:1453-1731575400-1731580200@castlereaghschool.wa.edu.au
SUMMARY:Assembly : Admin & Year 6 Graduation
DESCRIPTION:Blue Area \nMorning Tea in Garden Cafe afterwards
URL:https://castlereaghschool.wa.edu.au/calendar/assembly-admin-year-6-graduation/
CATEGORIES:School Events
END:VEVENT
BEGIN:VEVENT
DTSTART;TZID=Australia/Perth:20241115T133000
DTEND;TZID=Australia/Perth:20241115T144500
DTSTAMP:20260421T011512
CREATED:20241009T012502Z
LAST-MODIFIED:20241009T012502Z
UID:1455-1731677400-1731681900@castlereaghschool.wa.edu.au
SUMMARY:Craft and Cuppa in Garden Cafe with Trudy James
DESCRIPTION:
URL:https://castlereaghschool.wa.edu.au/calendar/craft-and-cuppa-in-garden-cafe-with-trudy-james-4/
CATEGORIES:School Events
END:VEVENT
BEGIN:VEVENT
DTSTART;TZID=Australia/Perth:20241121T083000
DTEND;TZID=Australia/Perth:20241121T093000
DTSTAMP:20260421T011512
CREATED:20241009T012605Z
LAST-MODIFIED:20241009T012605Z
UID:1457-1732177800-1732181400@castlereaghschool.wa.edu.au
SUMMARY:Community Coffee Catch Up in Garden Cafe with Trudy James
DESCRIPTION:
URL:https://castlereaghschool.wa.edu.au/calendar/community-coffee-catch-up-in-garden-cafe-with-trudy-james-2/
CATEGORIES:School Events
END:VEVENT
BEGIN:VEVENT
DTSTART;TZID=Australia/Perth:20241122T133000
DTEND;TZID=Australia/Perth:20241122T144500
DTSTAMP:20260421T011512
CREATED:20241009T012735Z
LAST-MODIFIED:20241009T012735Z
UID:1459-1732282200-1732286700@castlereaghschool.wa.edu.au
SUMMARY:Craft and Cuppa in Garden Cafe with Trudy James
DESCRIPTION:
URL:https://castlereaghschool.wa.edu.au/calendar/craft-and-cuppa-in-garden-cafe-with-trudy-james-5/
CATEGORIES:School Events
END:VEVENT
BEGIN:VEVENT
DTSTART;TZID=Australia/Perth:20241129T091500
DTEND;TZID=Australia/Perth:20241129T103000
DTSTAMP:20260421T011512
CREATED:20241009T012907Z
LAST-MODIFIED:20241009T012907Z
UID:1461-1732871700-1732876200@castlereaghschool.wa.edu.au
SUMMARY:Assembly Year 12 Leavers Graduation
DESCRIPTION:Blue Area – Morning Tea afterwards
URL:https://castlereaghschool.wa.edu.au/calendar/assembly-year-12-leavers-graduation/
CATEGORIES:School Events
END:VEVENT
BEGIN:VEVENT
DTSTART;TZID=Australia/Perth:20241129T133000
DTEND;TZID=Australia/Perth:20241129T144500
DTSTAMP:20260421T011512
CREATED:20241009T013007Z
LAST-MODIFIED:20241009T013007Z
UID:1463-1732887000-1732891500@castlereaghschool.wa.edu.au
SUMMARY:Craft and Cuppa in Garden Cafe with Trudy James
DESCRIPTION:
URL:https://castlereaghschool.wa.edu.au/calendar/craft-and-cuppa-in-garden-cafe-with-trudy-james-6/
CATEGORIES:School Events
END:VEVENT
END:VCALENDAR