BEGIN:VCALENDAR
VERSION:2.0
PRODID:-//Castlereagh School - ECPv6.15.14//NONSGML v1.0//EN
CALSCALE:GREGORIAN
METHOD:PUBLISH
X-WR-CALNAME:Castlereagh School
X-ORIGINAL-URL:https://castlereaghschool.wa.edu.au
X-WR-CALDESC:Events for Castlereagh School
REFRESH-INTERVAL;VALUE=DURATION:PT1H
X-Robots-Tag:noindex
X-PUBLISHED-TTL:PT1H
BEGIN:VTIMEZONE
TZID:Australia/Perth
BEGIN:STANDARD
TZOFFSETFROM:+0800
TZOFFSETTO:+0800
TZNAME:AWST
DTSTART:20240101T000000
END:STANDARD
END:VTIMEZONE
BEGIN:VEVENT
DTSTART;VALUE=DATE:20251208
DTEND;VALUE=DATE:20251209
DTSTAMP:20260420T025603
CREATED:20251014T020725Z
LAST-MODIFIED:20251014T023900Z
UID:1993-1765152000-1765238399@castlereaghschool.wa.edu.au
SUMMARY:Return Library Books
DESCRIPTION:
URL:https://castlereaghschool.wa.edu.au/calendar/return-library-books/
CATEGORIES:School Events
END:VEVENT
BEGIN:VEVENT
DTSTART;TZID=Australia/Perth:20251208T083000
DTEND;TZID=Australia/Perth:20251208T100000
DTSTAMP:20260420T025603
CREATED:20251014T020647Z
LAST-MODIFIED:20251014T020647Z
UID:1991-1765182600-1765188000@castlereaghschool.wa.edu.au
SUMMARY:Cuppa & Chat
DESCRIPTION:Cuppa & Chat with School Chaplain Trudy
URL:https://castlereaghschool.wa.edu.au/calendar/cuppa-chat-7/
CATEGORIES:School Events
END:VEVENT
BEGIN:VEVENT
DTSTART;VALUE=DATE:20251209
DTEND;VALUE=DATE:20251210
DTSTAMP:20260420T025603
CREATED:20251014T020803Z
LAST-MODIFIED:20251014T020803Z
UID:1995-1765238400-1765324799@castlereaghschool.wa.edu.au
SUMMARY:Primary Graduation & School Awards
DESCRIPTION:
URL:https://castlereaghschool.wa.edu.au/calendar/primary-graduation-school-awards/
CATEGORIES:School Events
END:VEVENT
BEGIN:VEVENT
DTSTART;VALUE=DATE:20251209
DTEND;VALUE=DATE:20251210
DTSTAMP:20260420T025603
CREATED:20251014T020920Z
LAST-MODIFIED:20251014T020920Z
UID:1997-1765238400-1765324799@castlereaghschool.wa.edu.au
SUMMARY:Leavers Year 12 Graduation Lunch
DESCRIPTION:
URL:https://castlereaghschool.wa.edu.au/calendar/leavers-year-12-graduation-lunch/
CATEGORIES:School Events
END:VEVENT
BEGIN:VEVENT
DTSTART;VALUE=DATE:20251211
DTEND;VALUE=DATE:20251212
DTSTAMP:20260420T025603
CREATED:20251014T020950Z
LAST-MODIFIED:20251014T020950Z
UID:1999-1765411200-1765497599@castlereaghschool.wa.edu.au
SUMMARY:Fun Day
DESCRIPTION:
URL:https://castlereaghschool.wa.edu.au/calendar/fun-day/
CATEGORIES:School Events
END:VEVENT
BEGIN:VEVENT
DTSTART;VALUE=DATE:20251211
DTEND;VALUE=DATE:20251212
DTSTAMP:20260420T025603
CREATED:20251014T021029Z
LAST-MODIFIED:20251014T021029Z
UID:2001-1765411200-1765497599@castlereaghschool.wa.edu.au
SUMMARY:Christmas Raffle Draw
DESCRIPTION:
URL:https://castlereaghschool.wa.edu.au/calendar/christmas-raffle-draw/
CATEGORIES:School Events
END:VEVENT
BEGIN:VEVENT
DTSTART;TZID=Australia/Perth:20251215T083000
DTEND;TZID=Australia/Perth:20251215T100000
DTSTAMP:20260420T025603
CREATED:20251014T021928Z
LAST-MODIFIED:20251014T021928Z
UID:2003-1765787400-1765792800@castlereaghschool.wa.edu.au
SUMMARY:Cuppa & Chat
DESCRIPTION:Cuppa & Chat with School Chaplain Trudy
URL:https://castlereaghschool.wa.edu.au/calendar/cuppa-chat-8/
CATEGORIES:School Events
END:VEVENT
BEGIN:VEVENT
DTSTART;TZID=Australia/Perth:20251216T091500
DTEND;TZID=Australia/Perth:20251216T101500
DTSTAMP:20260420T025603
CREATED:20251014T022813Z
LAST-MODIFIED:20251014T022820Z
UID:2005-1765876500-1765880100@castlereaghschool.wa.edu.au
SUMMARY:Bus Staff Thank You Morning Tea
DESCRIPTION:
URL:https://castlereaghschool.wa.edu.au/calendar/buss-staff-thank-you-morning-tea/
CATEGORIES:School Events
END:VEVENT
BEGIN:VEVENT
DTSTART;VALUE=DATE:20251218
DTEND;VALUE=DATE:20251219
DTSTAMP:20260420T025603
CREATED:20241209T063215Z
LAST-MODIFIED:20241209T063421Z
UID:1582-1766016000-1766102399@castlereaghschool.wa.edu.au
SUMMARY:End of Term 4
DESCRIPTION:
URL:https://castlereaghschool.wa.edu.au/calendar/end-of-term-4-2/
CATEGORIES:Term Dates
END:VEVENT
BEGIN:VEVENT
DTSTART;VALUE=DATE:20251219
DTEND;VALUE=DATE:20251220
DTSTAMP:20260420T025603
CREATED:20241209T064053Z
LAST-MODIFIED:20241209T064053Z
UID:1604-1766102400-1766188799@castlereaghschool.wa.edu.au
SUMMARY:School Development Day
DESCRIPTION:
URL:https://castlereaghschool.wa.edu.au/calendar/school-development-day-6/
CATEGORIES:School Development Day
END:VEVENT
BEGIN:VEVENT
DTSTART;VALUE=DATE:20260202
DTEND;VALUE=DATE:20260203
DTSTAMP:20260420T025603
CREATED:20251215T071237Z
LAST-MODIFIED:20251215T071237Z
UID:2073-1769990400-1770076799@castlereaghschool.wa.edu.au
SUMMARY:Start of Term 1
DESCRIPTION:
URL:https://castlereaghschool.wa.edu.au/calendar/start-of-term-1-2/
CATEGORIES:Term Dates
END:VEVENT
BEGIN:VEVENT
DTSTART;VALUE=DATE:20260302
DTEND;VALUE=DATE:20260303
DTSTAMP:20260420T025603
CREATED:20260127T072522Z
LAST-MODIFIED:20260127T072522Z
UID:2079-1772409600-1772495999@castlereaghschool.wa.edu.au
SUMMARY:Labour Day
DESCRIPTION:
URL:https://castlereaghschool.wa.edu.au/calendar/labour-day-2/
CATEGORIES:Public Holidays
END:VEVENT
BEGIN:VEVENT
DTSTART;VALUE=DATE:20260403
DTEND;VALUE=DATE:20260404
DTSTAMP:20260420T025603
CREATED:20260127T072605Z
LAST-MODIFIED:20260127T072605Z
UID:2081-1775174400-1775260799@castlereaghschool.wa.edu.au
SUMMARY:Good Friday
DESCRIPTION:
URL:https://castlereaghschool.wa.edu.au/calendar/good-friday-2/
CATEGORIES:Public Holidays
END:VEVENT
BEGIN:VEVENT
DTSTART;VALUE=DATE:20260406
DTEND;VALUE=DATE:20260407
DTSTAMP:20260420T025603
CREATED:20260127T072637Z
LAST-MODIFIED:20260127T072645Z
UID:2083-1775433600-1775519999@castlereaghschool.wa.edu.au
SUMMARY:Easter Monday
DESCRIPTION:
URL:https://castlereaghschool.wa.edu.au/calendar/easter-monday-2/
CATEGORIES:Public Holidays
END:VEVENT
BEGIN:VEVENT
DTSTART;VALUE=DATE:20260420
DTEND;VALUE=DATE:20260421
DTSTAMP:20260420T025603
CREATED:20260127T073118Z
LAST-MODIFIED:20260127T073118Z
UID:2095-1776643200-1776729599@castlereaghschool.wa.edu.au
SUMMARY:Staff Development Day (No Students)
DESCRIPTION:
URL:https://castlereaghschool.wa.edu.au/calendar/staff-development-day-no-students/
CATEGORIES:School Development Day
END:VEVENT
BEGIN:VEVENT
DTSTART;VALUE=DATE:20260427
DTEND;VALUE=DATE:20260428
DTSTAMP:20260420T025603
CREATED:20260127T072719Z
LAST-MODIFIED:20260127T072719Z
UID:2085-1777248000-1777334399@castlereaghschool.wa.edu.au
SUMMARY:ANZAC Day
DESCRIPTION:
URL:https://castlereaghschool.wa.edu.au/calendar/anzac-day-2/
CATEGORIES:Public Holidays
END:VEVENT
BEGIN:VEVENT
DTSTART;VALUE=DATE:20260601
DTEND;VALUE=DATE:20260602
DTSTAMP:20260420T025603
CREATED:20260127T072756Z
LAST-MODIFIED:20260127T072756Z
UID:2087-1780272000-1780358399@castlereaghschool.wa.edu.au
SUMMARY:WA Day
DESCRIPTION:
URL:https://castlereaghschool.wa.edu.au/calendar/wa-day-2/
CATEGORIES:Public Holidays
END:VEVENT
BEGIN:VEVENT
DTSTART;VALUE=DATE:20260720
DTEND;VALUE=DATE:20260721
DTSTAMP:20260420T025603
CREATED:20260127T073203Z
LAST-MODIFIED:20260127T073209Z
UID:2098-1784505600-1784591999@castlereaghschool.wa.edu.au
SUMMARY:Staff Development Day (No Students)
DESCRIPTION:
URL:https://castlereaghschool.wa.edu.au/calendar/staff-development-day-no-students-2/
CATEGORIES:School Development Day
END:VEVENT
BEGIN:VEVENT
DTSTART;VALUE=DATE:20260928
DTEND;VALUE=DATE:20260929
DTSTAMP:20260420T025603
CREATED:20260127T072829Z
LAST-MODIFIED:20260127T073010Z
UID:2089-1790553600-1790639999@castlereaghschool.wa.edu.au
SUMMARY:Kings Birthday
DESCRIPTION:
URL:https://castlereaghschool.wa.edu.au/calendar/kings-birthday-2/
CATEGORIES:Public Holidays
END:VEVENT
BEGIN:VEVENT
DTSTART;VALUE=DATE:20261012
DTEND;VALUE=DATE:20261013
DTSTAMP:20260420T025603
CREATED:20260127T073231Z
LAST-MODIFIED:20260127T073231Z
UID:2100-1791763200-1791849599@castlereaghschool.wa.edu.au
SUMMARY:Staff Development Day (No Students)
DESCRIPTION:
URL:https://castlereaghschool.wa.edu.au/calendar/staff-development-day-no-students-3/
CATEGORIES:School Development Day
END:VEVENT
BEGIN:VEVENT
DTSTART;VALUE=DATE:20261218
DTEND;VALUE=DATE:20261219
DTSTAMP:20260420T025603
CREATED:20260127T073310Z
LAST-MODIFIED:20260127T073310Z
UID:2102-1797552000-1797638399@castlereaghschool.wa.edu.au
SUMMARY:Staff Development Day (No Students)
DESCRIPTION:
URL:https://castlereaghschool.wa.edu.au/calendar/staff-development-day-no-students-4/
CATEGORIES:School Development Day
END:VEVENT
BEGIN:VEVENT
DTSTART;VALUE=DATE:20261225
DTEND;VALUE=DATE:20261226
DTSTAMP:20260420T025603
CREATED:20260127T072905Z
LAST-MODIFIED:20260127T072905Z
UID:2091-1798156800-1798243199@castlereaghschool.wa.edu.au
SUMMARY:Christmas Day
DESCRIPTION:
URL:https://castlereaghschool.wa.edu.au/calendar/christmas-day/
CATEGORIES:Public Holidays
END:VEVENT
BEGIN:VEVENT
DTSTART;VALUE=DATE:20261228
DTEND;VALUE=DATE:20261229
DTSTAMP:20260420T025603
CREATED:20260127T072954Z
LAST-MODIFIED:20260127T072954Z
UID:2093-1798416000-1798502399@castlereaghschool.wa.edu.au
SUMMARY:Boxing Day Public Holiday
DESCRIPTION:
URL:https://castlereaghschool.wa.edu.au/calendar/boxing-day-public-holiday/
CATEGORIES:Public Holidays
END:VEVENT
END:VCALENDAR