BEGIN:VCALENDAR
VERSION:2.0
PRODID:-//Castlereagh School - ECPv6.15.14//NONSGML v1.0//EN
CALSCALE:GREGORIAN
METHOD:PUBLISH
X-WR-CALNAME:Castlereagh School
X-ORIGINAL-URL:https://castlereaghschool.wa.edu.au
X-WR-CALDESC:Events for Castlereagh School
REFRESH-INTERVAL;VALUE=DURATION:PT1H
X-Robots-Tag:noindex
X-PUBLISHED-TTL:PT1H
BEGIN:VTIMEZONE
TZID:Australia/Perth
BEGIN:STANDARD
TZOFFSETFROM:+0800
TZOFFSETTO:+0800
TZNAME:AWST
DTSTART:20240101T000000
END:STANDARD
END:VTIMEZONE
BEGIN:VEVENT
DTSTART;VALUE=DATE:20251211
DTEND;VALUE=DATE:20251212
DTSTAMP:20260422T034825
CREATED:20251014T021029Z
LAST-MODIFIED:20251014T021029Z
UID:2001-1765411200-1765497599@castlereaghschool.wa.edu.au
SUMMARY:Christmas Raffle Draw
DESCRIPTION:
URL:https://castlereaghschool.wa.edu.au/calendar/christmas-raffle-draw/
CATEGORIES:School Events
END:VEVENT
BEGIN:VEVENT
DTSTART;TZID=Australia/Perth:20251215T083000
DTEND;TZID=Australia/Perth:20251215T100000
DTSTAMP:20260422T034825
CREATED:20251014T021928Z
LAST-MODIFIED:20251014T021928Z
UID:2003-1765787400-1765792800@castlereaghschool.wa.edu.au
SUMMARY:Cuppa & Chat
DESCRIPTION:Cuppa & Chat with School Chaplain Trudy
URL:https://castlereaghschool.wa.edu.au/calendar/cuppa-chat-8/
CATEGORIES:School Events
END:VEVENT
BEGIN:VEVENT
DTSTART;TZID=Australia/Perth:20251216T091500
DTEND;TZID=Australia/Perth:20251216T101500
DTSTAMP:20260422T034825
CREATED:20251014T022813Z
LAST-MODIFIED:20251014T022820Z
UID:2005-1765876500-1765880100@castlereaghschool.wa.edu.au
SUMMARY:Bus Staff Thank You Morning Tea
DESCRIPTION:
URL:https://castlereaghschool.wa.edu.au/calendar/buss-staff-thank-you-morning-tea/
CATEGORIES:School Events
END:VEVENT
END:VCALENDAR