BEGIN:VCALENDAR
VERSION:2.0
PRODID:-//Castlereagh School - ECPv6.15.14//NONSGML v1.0//EN
CALSCALE:GREGORIAN
METHOD:PUBLISH
X-WR-CALNAME:Castlereagh School
X-ORIGINAL-URL:https://castlereaghschool.wa.edu.au
X-WR-CALDESC:Events for Castlereagh School
REFRESH-INTERVAL;VALUE=DURATION:PT1H
X-Robots-Tag:noindex
X-PUBLISHED-TTL:PT1H
BEGIN:VTIMEZONE
TZID:Australia/Perth
BEGIN:STANDARD
TZOFFSETFROM:+0800
TZOFFSETTO:+0800
TZNAME:AWST
DTSTART:20240101T000000
END:STANDARD
END:VTIMEZONE
BEGIN:VEVENT
DTSTART;TZID=Australia/Perth:20250703T093000
DTEND;TZID=Australia/Perth:20250703T103000
DTSTAMP:20260415T184807
CREATED:20250506T061713Z
LAST-MODIFIED:20250506T061713Z
UID:1791-1751535000-1751538600@castlereaghschool.wa.edu.au
SUMMARY:Tea in Garden Cafe
DESCRIPTION:Tea with Chaplain Trudy in Garden Cafe
URL:https://castlereaghschool.wa.edu.au/calendar/tea-in-garden-cafe-3/
CATEGORIES:School Events
END:VEVENT
BEGIN:VEVENT
DTSTART;TZID=Australia/Perth:20250704T083000
DTEND;TZID=Australia/Perth:20250704T213000
DTSTAMP:20260415T184807
CREATED:20250506T054114Z
LAST-MODIFIED:20250506T054114Z
UID:1778-1751617800-1751664600@castlereaghschool.wa.edu.au
SUMMARY:Craft and a Cuppa
DESCRIPTION:Craft and a cuppa with Trudy in Garden Cafe
URL:https://castlereaghschool.wa.edu.au/calendar/craft-and-a-cuppa-6/
CATEGORIES:School Events
END:VEVENT
BEGIN:VEVENT
DTSTART;TZID=Australia/Perth:20250728T090000
DTEND;TZID=Australia/Perth:20250728T103000
DTSTAMP:20260415T184807
CREATED:20250630T035821Z
LAST-MODIFIED:20250630T035821Z
UID:1820-1753693200-1753698600@castlereaghschool.wa.edu.au
SUMMARY:Tea in Garden Cafe
DESCRIPTION:Tea with Chaplain in Garden Cafe
URL:https://castlereaghschool.wa.edu.au/calendar/tea-in-garden-cafe-5/
CATEGORIES:School Events
END:VEVENT
END:VCALENDAR