BEGIN:VCALENDAR
VERSION:2.0
PRODID:-//Castlereagh School - ECPv6.15.14//NONSGML v1.0//EN
CALSCALE:GREGORIAN
METHOD:PUBLISH
X-ORIGINAL-URL:https://castlereaghschool.wa.edu.au
X-WR-CALDESC:Events for Castlereagh School
REFRESH-INTERVAL;VALUE=DURATION:PT1H
X-Robots-Tag:noindex
X-PUBLISHED-TTL:PT1H
BEGIN:VTIMEZONE
TZID:Australia/Perth
BEGIN:STANDARD
TZOFFSETFROM:+0800
TZOFFSETTO:+0800
TZNAME:AWST
DTSTART:20240101T000000
END:STANDARD
END:VTIMEZONE
BEGIN:VEVENT
DTSTART;TZID=Australia/Perth:20251106T091000
DTEND;TZID=Australia/Perth:20251106T093000
DTSTAMP:20260417T140030
CREATED:20251014T012039Z
LAST-MODIFIED:20251014T012039Z
UID:1938-1762420200-1762421400@castlereaghschool.wa.edu.au
SUMMARY:Assembly LA5 & LA6
DESCRIPTION:
URL:https://castlereaghschool.wa.edu.au/calendar/assembly-la5-la6/
CATEGORIES:School Assembly
END:VEVENT
BEGIN:VEVENT
DTSTART;TZID=Australia/Perth:20251023T091000
DTEND;TZID=Australia/Perth:20251023T093000
DTSTAMP:20260417T140030
CREATED:20251014T001613Z
LAST-MODIFIED:20251014T001613Z
UID:1911-1761210600-1761211800@castlereaghschool.wa.edu.au
SUMMARY:Assembly LA 1 & 2
DESCRIPTION:
URL:https://castlereaghschool.wa.edu.au/calendar/assembly-la-1-2/
CATEGORIES:School Assembly
END:VEVENT
BEGIN:VEVENT
DTSTART;TZID=Australia/Perth:20250703T091000
DTEND;TZID=Australia/Perth:20250703T093000
DTSTAMP:20260417T140030
CREATED:20250506T061600Z
LAST-MODIFIED:20250506T061600Z
UID:1789-1751533800-1751535000@castlereaghschool.wa.edu.au
SUMMARY:Assembly LA6
DESCRIPTION:
URL:https://castlereaghschool.wa.edu.au/calendar/assembly-la6/
CATEGORIES:School Assembly
END:VEVENT
BEGIN:VEVENT
DTSTART;TZID=Australia/Perth:20250619T091000
DTEND;TZID=Australia/Perth:20250619T093000
DTSTAMP:20260417T140030
CREATED:20250506T051810Z
LAST-MODIFIED:20250506T061105Z
UID:1768-1750324200-1750325400@castlereaghschool.wa.edu.au
SUMMARY:Assembly LA13
DESCRIPTION:
URL:https://castlereaghschool.wa.edu.au/calendar/assembly-la13/
CATEGORIES:School Assembly
END:VEVENT
BEGIN:VEVENT
DTSTART;TZID=Australia/Perth:20250522T091000
DTEND;TZID=Australia/Perth:20250522T093000
DTSTAMP:20260417T140030
CREATED:20250506T032653Z
LAST-MODIFIED:20250506T060047Z
UID:1733-1747905000-1747906200@castlereaghschool.wa.edu.au
SUMMARY:Assembly LA9/10
DESCRIPTION:
URL:https://castlereaghschool.wa.edu.au/calendar/assembly-la9-10/
CATEGORIES:School Assembly
END:VEVENT
END:VCALENDAR