BEGIN:VCALENDAR
VERSION:2.0
PRODID:-//Castlereagh School - ECPv6.15.14//NONSGML v1.0//EN
CALSCALE:GREGORIAN
METHOD:PUBLISH
X-ORIGINAL-URL:https://castlereaghschool.wa.edu.au
X-WR-CALDESC:Events for Castlereagh School
REFRESH-INTERVAL;VALUE=DURATION:PT1H
X-Robots-Tag:noindex
X-PUBLISHED-TTL:PT1H
BEGIN:VTIMEZONE
TZID:Australia/Perth
BEGIN:STANDARD
TZOFFSETFROM:+0800
TZOFFSETTO:+0800
TZNAME:AWST
DTSTART:20240101T000000
END:STANDARD
END:VTIMEZONE
BEGIN:VEVENT
DTSTART;VALUE=DATE:20251203
DTEND;VALUE=DATE:20251204
DTSTAMP:20260414T072131
CREATED:20251014T020336Z
LAST-MODIFIED:20251014T020342Z
UID:1985-1764720000-1764806399@castlereaghschool.wa.edu.au
SUMMARY:School Review Day
DESCRIPTION:
URL:https://castlereaghschool.wa.edu.au/calendar/school-review-day/
CATEGORIES:School Events
END:VEVENT
BEGIN:VEVENT
DTSTART;VALUE=DATE:20251203
DTEND;VALUE=DATE:20251204
DTSTAMP:20260414T072131
CREATED:20251014T020438Z
LAST-MODIFIED:20251014T020453Z
UID:1987-1764720000-1764806399@castlereaghschool.wa.edu.au
SUMMARY:International Day People With Disabilities
DESCRIPTION:Lunchtime activities
URL:https://castlereaghschool.wa.edu.au/calendar/international-day-people-with-disabilities/
CATEGORIES:School Events
END:VEVENT
END:VCALENDAR