BEGIN:VCALENDAR
VERSION:2.0
PRODID:-//Castlereagh School - ECPv6.15.14//NONSGML v1.0//EN
CALSCALE:GREGORIAN
METHOD:PUBLISH
X-ORIGINAL-URL:https://castlereaghschool.wa.edu.au
X-WR-CALDESC:Events for Castlereagh School
REFRESH-INTERVAL;VALUE=DURATION:PT1H
X-Robots-Tag:noindex
X-PUBLISHED-TTL:PT1H
BEGIN:VTIMEZONE
TZID:Australia/Perth
BEGIN:STANDARD
TZOFFSETFROM:+0800
TZOFFSETTO:+0800
TZNAME:AWST
DTSTART:20240101T000000
END:STANDARD
END:VTIMEZONE
BEGIN:VEVENT
DTSTART;VALUE=DATE:20251202
DTEND;VALUE=DATE:20251203
DTSTAMP:20260413T062145
CREATED:20251014T020029Z
LAST-MODIFIED:20251014T020105Z
UID:1978-1764633600-1764719999@castlereaghschool.wa.edu.au
SUMMARY:Christmas Raffle Packaging
DESCRIPTION:
URL:https://castlereaghschool.wa.edu.au/calendar/christmasd-raffle-packaging/
CATEGORIES:School Events
END:VEVENT
BEGIN:VEVENT
DTSTART;VALUE=DATE:20251202
DTEND;VALUE=DATE:20251203
DTSTAMP:20260413T062145
CREATED:20251014T020152Z
LAST-MODIFIED:20251014T020152Z
UID:1981-1764633600-1764719999@castlereaghschool.wa.edu.au
SUMMARY:Transition Day - New Students
DESCRIPTION:
URL:https://castlereaghschool.wa.edu.au/calendar/transition-day-new-students/
CATEGORIES:School Events
END:VEVENT
BEGIN:VEVENT
DTSTART;VALUE=DATE:20251202
DTEND;VALUE=DATE:20251203
DTSTAMP:20260413T062145
CREATED:20251014T025024Z
LAST-MODIFIED:20251014T025024Z
UID:2013-1764633600-1764719999@castlereaghschool.wa.edu.au
SUMMARY:Reports Sent Home
DESCRIPTION:
URL:https://castlereaghschool.wa.edu.au/calendar/reports-sent-home/
CATEGORIES:School Events
END:VEVENT
BEGIN:VEVENT
DTSTART;TZID=Australia/Perth:20251202T150000
DTEND;TZID=Australia/Perth:20251202T160000
DTSTAMP:20260413T062145
CREATED:20251014T020248Z
LAST-MODIFIED:20251014T020248Z
UID:1983-1764687600-1764691200@castlereaghschool.wa.edu.au
SUMMARY:RAP Meeting - All Welcome
DESCRIPTION:
URL:https://castlereaghschool.wa.edu.au/calendar/rap-meeting-all-welcome/
CATEGORIES:School Events
END:VEVENT
END:VCALENDAR