BEGIN:VCALENDAR
VERSION:2.0
PRODID:-//Castlereagh School - ECPv6.15.14//NONSGML v1.0//EN
CALSCALE:GREGORIAN
METHOD:PUBLISH
X-WR-CALNAME:Castlereagh School
X-ORIGINAL-URL:https://castlereaghschool.wa.edu.au
X-WR-CALDESC:Events for Castlereagh School
REFRESH-INTERVAL;VALUE=DURATION:PT1H
X-Robots-Tag:noindex
X-PUBLISHED-TTL:PT1H
BEGIN:VTIMEZONE
TZID:Australia/Perth
BEGIN:STANDARD
TZOFFSETFROM:+0800
TZOFFSETTO:+0800
TZNAME:AWST
DTSTART:20240101T000000
END:STANDARD
END:VTIMEZONE
BEGIN:VEVENT
DTSTART;VALUE=DATE:20251201
DTEND;VALUE=DATE:20251202
DTSTAMP:20260415T182527
CREATED:20251014T015820Z
LAST-MODIFIED:20251014T015954Z
UID:1975-1764547200-1764633599@castlereaghschool.wa.edu.au
SUMMARY:Donations for Christmas Raffle
DESCRIPTION:
URL:https://castlereaghschool.wa.edu.au/calendar/donations-for-christmas-raffle/
CATEGORIES:School Events
END:VEVENT
BEGIN:VEVENT
DTSTART;TZID=Australia/Perth:20251201T083000
DTEND;TZID=Australia/Perth:20251201T100000
DTSTAMP:20260415T182527
CREATED:20251014T015131Z
LAST-MODIFIED:20251014T015131Z
UID:1973-1764577800-1764583200@castlereaghschool.wa.edu.au
SUMMARY:Cuppa & Chat
DESCRIPTION:Cuppa & Chat with School Chaplain Trudy
URL:https://castlereaghschool.wa.edu.au/calendar/cuppa-chat-6/
CATEGORIES:School Events
END:VEVENT
END:VCALENDAR