BEGIN:VCALENDAR
VERSION:2.0
PRODID:-//Castlereagh School - ECPv6.15.14//NONSGML v1.0//EN
CALSCALE:GREGORIAN
METHOD:PUBLISH
X-ORIGINAL-URL:https://castlereaghschool.wa.edu.au
X-WR-CALDESC:Events for Castlereagh School
REFRESH-INTERVAL;VALUE=DURATION:PT1H
X-Robots-Tag:noindex
X-PUBLISHED-TTL:PT1H
BEGIN:VTIMEZONE
TZID:Australia/Perth
BEGIN:STANDARD
TZOFFSETFROM:+0800
TZOFFSETTO:+0800
TZNAME:AWST
DTSTART:20240101T000000
END:STANDARD
END:VTIMEZONE
BEGIN:VEVENT
DTSTART;VALUE=DATE:20251107
DTEND;VALUE=DATE:20251108
DTSTAMP:20260420T014827
CREATED:20251014T012246Z
LAST-MODIFIED:20251014T012246Z
UID:1942-1762473600-1762559999@castlereaghschool.wa.edu.au
SUMMARY:Special Olympics
DESCRIPTION:
URL:https://castlereaghschool.wa.edu.au/calendar/special-olympics/
CATEGORIES:School Events
END:VEVENT
END:VCALENDAR