BEGIN:VCALENDAR
VERSION:2.0
PRODID:-//Castlereagh School - ECPv6.15.14//NONSGML v1.0//EN
CALSCALE:GREGORIAN
METHOD:PUBLISH
X-WR-CALNAME:Castlereagh School
X-ORIGINAL-URL:https://castlereaghschool.wa.edu.au
X-WR-CALDESC:Events for Castlereagh School
REFRESH-INTERVAL;VALUE=DURATION:PT1H
X-Robots-Tag:noindex
X-PUBLISHED-TTL:PT1H
BEGIN:VTIMEZONE
TZID:Australia/Perth
BEGIN:STANDARD
TZOFFSETFROM:+0800
TZOFFSETTO:+0800
TZNAME:AWST
DTSTART:20240101T000000
END:STANDARD
END:VTIMEZONE
BEGIN:VEVENT
DTSTART;TZID=Australia/Perth:20251030T084500
DTEND;TZID=Australia/Perth:20251030T103000
DTSTAMP:20260420T014712
CREATED:20251014T011359Z
LAST-MODIFIED:20251014T011359Z
UID:1926-1761813900-1761820200@castlereaghschool.wa.edu.au
SUMMARY:Community Coffee in Garden Cafe
DESCRIPTION:Community Coffee in Garden Cafe with Trudy James
URL:https://castlereaghschool.wa.edu.au/calendar/community-coffee-in-garden-cafe/
CATEGORIES:School Events
END:VEVENT
END:VCALENDAR