BEGIN:VCALENDAR
VERSION:2.0
PRODID:-//Castlereagh School - ECPv6.15.14//NONSGML v1.0//EN
CALSCALE:GREGORIAN
METHOD:PUBLISH
X-WR-CALNAME:Castlereagh School
X-ORIGINAL-URL:https://castlereaghschool.wa.edu.au
X-WR-CALDESC:Events for Castlereagh School
REFRESH-INTERVAL;VALUE=DURATION:PT1H
X-Robots-Tag:noindex
X-PUBLISHED-TTL:PT1H
BEGIN:VTIMEZONE
TZID:Australia/Perth
BEGIN:STANDARD
TZOFFSETFROM:+0800
TZOFFSETTO:+0800
TZNAME:AWST
DTSTART:20240101T000000
END:STANDARD
END:VTIMEZONE
BEGIN:VEVENT
DTSTART;VALUE=DATE:20250529
DTEND;VALUE=DATE:20250530
DTSTAMP:20260420T110547
CREATED:20250506T041519Z
LAST-MODIFIED:20250506T041519Z
UID:1746-1748476800-1748563199@castlereaghschool.wa.edu.au
SUMMARY:Sporting Schools Gecko Golf Years K-8
DESCRIPTION:
URL:https://castlereaghschool.wa.edu.au/calendar/sporting-schools-gecko-golf-years-k-8-4/
CATEGORIES:School Events
END:VEVENT
BEGIN:VEVENT
DTSTART;TZID=Australia/Perth:20250529T090000
DTEND;TZID=Australia/Perth:20250529T100000
DTSTAMP:20260420T110547
CREATED:20250506T041711Z
LAST-MODIFIED:20250506T060314Z
UID:1748-1748509200-1748512800@castlereaghschool.wa.edu.au
SUMMARY:Community Coffee Catch Up
DESCRIPTION:Community coffee catch up with Chaplain Trudy James in Garden Cafe
URL:https://castlereaghschool.wa.edu.au/calendar/community-coffee-catch-up-2/
CATEGORIES:School Events
END:VEVENT
END:VCALENDAR