BEGIN:VCALENDAR
VERSION:2.0
PRODID:-//Castlereagh School - ECPv6.15.14//NONSGML v1.0//EN
CALSCALE:GREGORIAN
METHOD:PUBLISH
X-WR-CALNAME:Castlereagh School
X-ORIGINAL-URL:https://castlereaghschool.wa.edu.au
X-WR-CALDESC:Events for Castlereagh School
REFRESH-INTERVAL;VALUE=DURATION:PT1H
X-Robots-Tag:noindex
X-PUBLISHED-TTL:PT1H
BEGIN:VTIMEZONE
TZID:Australia/Perth
BEGIN:STANDARD
TZOFFSETFROM:+0800
TZOFFSETTO:+0800
TZNAME:AWST
DTSTART:20240101T000000
END:STANDARD
END:VTIMEZONE
BEGIN:VEVENT
DTSTART;VALUE=DATE:20250515
DTEND;VALUE=DATE:20250516
DTSTAMP:20260420T123145
CREATED:20250506T032041Z
LAST-MODIFIED:20250506T032041Z
UID:1723-1747267200-1747353599@castlereaghschool.wa.edu.au
SUMMARY:Sporting Schools Gecko Golf Years K-8
DESCRIPTION:
URL:https://castlereaghschool.wa.edu.au/calendar/sporting-schools-gecko-golf-years-k-8-2/
CATEGORIES:School Events
END:VEVENT
BEGIN:VEVENT
DTSTART;TZID=Australia/Perth:20250515T090000
DTEND;TZID=Australia/Perth:20250515T220000
DTSTAMP:20260420T123145
CREATED:20250506T032226Z
LAST-MODIFIED:20250506T055637Z
UID:1725-1747299600-1747346400@castlereaghschool.wa.edu.au
SUMMARY:Community Coffee Catch Up
DESCRIPTION:Community coffee catch up with Trudy in Garden Cafe
URL:https://castlereaghschool.wa.edu.au/calendar/community-coffee-catch-up/
CATEGORIES:School Events
END:VEVENT
END:VCALENDAR