BEGIN:VCALENDAR
VERSION:2.0
PRODID:-//Castlereagh School - ECPv6.15.14//NONSGML v1.0//EN
CALSCALE:GREGORIAN
METHOD:PUBLISH
X-WR-CALNAME:Castlereagh School
X-ORIGINAL-URL:https://castlereaghschool.wa.edu.au
X-WR-CALDESC:Events for Castlereagh School
REFRESH-INTERVAL;VALUE=DURATION:PT1H
X-Robots-Tag:noindex
X-PUBLISHED-TTL:PT1H
BEGIN:VTIMEZONE
TZID:Australia/Perth
BEGIN:STANDARD
TZOFFSETFROM:+0800
TZOFFSETTO:+0800
TZNAME:AWST
DTSTART:20240101T000000
END:STANDARD
END:VTIMEZONE
BEGIN:VEVENT
DTSTART;VALUE=DATE:20250513
DTEND;VALUE=DATE:20250514
DTSTAMP:20260420T123150
CREATED:20250506T030317Z
LAST-MODIFIED:20250506T030317Z
UID:1719-1747094400-1747180799@castlereaghschool.wa.edu.au
SUMMARY:Special Olympics Years 9-12
DESCRIPTION:
URL:https://castlereaghschool.wa.edu.au/calendar/special-olympics-years-9-12/
CATEGORIES:School Events
END:VEVENT
END:VCALENDAR